BEGIN:VCALENDAR
VERSION:2.0
PRODID:-//Port Theatre - ECPv6.15.19//NONSGML v1.0//EN
CALSCALE:GREGORIAN
METHOD:PUBLISH
X-WR-CALNAME:Port Theatre
X-ORIGINAL-URL:https://theporttheatre.com
X-WR-CALDESC:Events for Port Theatre
REFRESH-INTERVAL;VALUE=DURATION:PT1H
X-Robots-Tag:noindex
X-PUBLISHED-TTL:PT1H
BEGIN:VTIMEZONE
TZID:America/Toronto
BEGIN:DAYLIGHT
TZOFFSETFROM:-0500
TZOFFSETTO:-0400
TZNAME:EDT
DTSTART:20250309T070000
END:DAYLIGHT
BEGIN:STANDARD
TZOFFSETFROM:-0400
TZOFFSETTO:-0500
TZNAME:EST
DTSTART:20251102T060000
END:STANDARD
BEGIN:DAYLIGHT
TZOFFSETFROM:-0500
TZOFFSETTO:-0400
TZNAME:EDT
DTSTART:20260308T070000
END:DAYLIGHT
BEGIN:STANDARD
TZOFFSETFROM:-0400
TZOFFSETTO:-0500
TZNAME:EST
DTSTART:20261101T060000
END:STANDARD
BEGIN:DAYLIGHT
TZOFFSETFROM:-0500
TZOFFSETTO:-0400
TZNAME:EDT
DTSTART:20270314T070000
END:DAYLIGHT
BEGIN:STANDARD
TZOFFSETFROM:-0400
TZOFFSETTO:-0500
TZNAME:EST
DTSTART:20271107T060000
END:STANDARD
END:VTIMEZONE
BEGIN:VEVENT
DTSTART;TZID=America/Toronto:20260328T133000
DTEND;TZID=America/Toronto:20260328T133000
DTSTAMP:20260419T174009
CREATED:20260323T182449Z
LAST-MODIFIED:20260326T192213Z
UID:10006579-1774704600-1774704600@theporttheatre.com
SUMMARY:Zootopia 2
DESCRIPTION:
URL:https://theporttheatre.com/event/zootopia-2-2/2026-03-28/
LOCATION:Port Theatre\, 132 Montreal Rd\, Cornwall\, Ontario\, k6H1B3\, Canada
CATEGORIES:Movies
ATTACH;FMTTYPE=image/png:https://theporttheatre.com/wp-content/uploads/2026/03/Zootopia-matinee1.png
END:VEVENT
END:VCALENDAR