BEGIN:VCALENDAR
VERSION:2.0
PRODID:-//Port Theatre - ECPv6.15.20//NONSGML v1.0//EN
CALSCALE:GREGORIAN
METHOD:PUBLISH
X-WR-CALNAME:Port Theatre
X-ORIGINAL-URL:https://theporttheatre.com
X-WR-CALDESC:Events for Port Theatre
REFRESH-INTERVAL;VALUE=DURATION:PT1H
X-Robots-Tag:noindex
X-PUBLISHED-TTL:PT1H
BEGIN:VTIMEZONE
TZID:America/Toronto
BEGIN:DAYLIGHT
TZOFFSETFROM:-0500
TZOFFSETTO:-0400
TZNAME:EDT
DTSTART:20230312T070000
END:DAYLIGHT
BEGIN:STANDARD
TZOFFSETFROM:-0400
TZOFFSETTO:-0500
TZNAME:EST
DTSTART:20231105T060000
END:STANDARD
BEGIN:DAYLIGHT
TZOFFSETFROM:-0500
TZOFFSETTO:-0400
TZNAME:EDT
DTSTART:20240310T070000
END:DAYLIGHT
BEGIN:STANDARD
TZOFFSETFROM:-0400
TZOFFSETTO:-0500
TZNAME:EST
DTSTART:20241103T060000
END:STANDARD
BEGIN:DAYLIGHT
TZOFFSETFROM:-0500
TZOFFSETTO:-0400
TZNAME:EDT
DTSTART:20250309T070000
END:DAYLIGHT
BEGIN:STANDARD
TZOFFSETFROM:-0400
TZOFFSETTO:-0500
TZNAME:EST
DTSTART:20251102T060000
END:STANDARD
END:VTIMEZONE
BEGIN:VEVENT
DTSTART;TZID=America/Toronto:20240514T133000
DTEND;TZID=America/Toronto:20240514T153000
DTSTAMP:20260425T085255
CREATED:20250903T210938Z
LAST-MODIFIED:20250903T210938Z
UID:10005683-1715693400-1715700600@theporttheatre.com
SUMMARY:Unsung Hero
DESCRIPTION:
URL:https://theporttheatre.com/event/unsung-hero-605/
LOCATION:Port Theatre\, 132 Montreal Rd\, Cornwall\, Ontario\, k6H1B3\, Canada
CATEGORIES:Movies
ATTACH;FMTTYPE=image/jpeg:https://theporttheatre.com/wp-content/uploads/2024/05/Unsung-Hero-Poster.jpg
END:VEVENT
BEGIN:VEVENT
DTSTART;TZID=America/Toronto:20240514T133000
DTEND;TZID=America/Toronto:20240514T153000
DTSTAMP:20260425T085255
CREATED:20250904T090937Z
LAST-MODIFIED:20250904T090937Z
UID:10005684-1715693400-1715700600@theporttheatre.com
SUMMARY:Unsung Hero
DESCRIPTION:
URL:https://theporttheatre.com/event/unsung-hero-606/
LOCATION:Port Theatre\, 132 Montreal Rd\, Cornwall\, Ontario\, k6H1B3\, Canada
CATEGORIES:Movies
ATTACH;FMTTYPE=image/jpeg:https://theporttheatre.com/wp-content/uploads/2024/05/Unsung-Hero-Poster.jpg
END:VEVENT
BEGIN:VEVENT
DTSTART;TZID=America/Toronto:20240514T133000
DTEND;TZID=America/Toronto:20240514T153000
DTSTAMP:20260425T085255
CREATED:20250904T210937Z
LAST-MODIFIED:20250904T210937Z
UID:10005685-1715693400-1715700600@theporttheatre.com
SUMMARY:Unsung Hero
DESCRIPTION:
URL:https://theporttheatre.com/event/unsung-hero-607/
LOCATION:Port Theatre\, 132 Montreal Rd\, Cornwall\, Ontario\, k6H1B3\, Canada
CATEGORIES:Movies
ATTACH;FMTTYPE=image/jpeg:https://theporttheatre.com/wp-content/uploads/2024/05/Unsung-Hero-Poster.jpg
END:VEVENT
BEGIN:VEVENT
DTSTART;TZID=America/Toronto:20240514T133000
DTEND;TZID=America/Toronto:20240514T153000
DTSTAMP:20260425T085255
CREATED:20250905T210953Z
LAST-MODIFIED:20250905T210953Z
UID:10005693-1715693400-1715700600@theporttheatre.com
SUMMARY:Unsung Hero
DESCRIPTION:
URL:https://theporttheatre.com/event/unsung-hero-609/
LOCATION:Port Theatre\, 132 Montreal Rd\, Cornwall\, Ontario\, k6H1B3\, Canada
CATEGORIES:Movies
ATTACH;FMTTYPE=image/jpeg:https://theporttheatre.com/wp-content/uploads/2024/05/Unsung-Hero-Poster.jpg
END:VEVENT
BEGIN:VEVENT
DTSTART;TZID=America/Toronto:20240514T133000
DTEND;TZID=America/Toronto:20240514T153000
DTSTAMP:20260425T085255
CREATED:20250906T091019Z
LAST-MODIFIED:20250906T091019Z
UID:10005694-1715693400-1715700600@theporttheatre.com
SUMMARY:Unsung Hero
DESCRIPTION:
URL:https://theporttheatre.com/event/unsung-hero-610/
LOCATION:Port Theatre\, 132 Montreal Rd\, Cornwall\, Ontario\, k6H1B3\, Canada
CATEGORIES:Movies
ATTACH;FMTTYPE=image/jpeg:https://theporttheatre.com/wp-content/uploads/2024/05/Unsung-Hero-Poster.jpg
END:VEVENT
BEGIN:VEVENT
DTSTART;TZID=America/Toronto:20240514T133000
DTEND;TZID=America/Toronto:20240514T153000
DTSTAMP:20260425T085255
CREATED:20250906T211009Z
LAST-MODIFIED:20250906T211009Z
UID:10005695-1715693400-1715700600@theporttheatre.com
SUMMARY:Unsung Hero
DESCRIPTION:
URL:https://theporttheatre.com/event/unsung-hero-611/
LOCATION:Port Theatre\, 132 Montreal Rd\, Cornwall\, Ontario\, k6H1B3\, Canada
CATEGORIES:Movies
ATTACH;FMTTYPE=image/jpeg:https://theporttheatre.com/wp-content/uploads/2024/05/Unsung-Hero-Poster.jpg
END:VEVENT
BEGIN:VEVENT
DTSTART;TZID=America/Toronto:20240514T133000
DTEND;TZID=America/Toronto:20240514T153000
DTSTAMP:20260425T085255
CREATED:20250907T090937Z
LAST-MODIFIED:20250907T090937Z
UID:10005696-1715693400-1715700600@theporttheatre.com
SUMMARY:Unsung Hero
DESCRIPTION:
URL:https://theporttheatre.com/event/unsung-hero-612/
LOCATION:Port Theatre\, 132 Montreal Rd\, Cornwall\, Ontario\, k6H1B3\, Canada
CATEGORIES:Movies
ATTACH;FMTTYPE=image/jpeg:https://theporttheatre.com/wp-content/uploads/2024/05/Unsung-Hero-Poster.jpg
END:VEVENT
BEGIN:VEVENT
DTSTART;TZID=America/Toronto:20240514T133000
DTEND;TZID=America/Toronto:20240514T153000
DTSTAMP:20260425T085255
CREATED:20250907T210945Z
LAST-MODIFIED:20250907T210945Z
UID:10005697-1715693400-1715700600@theporttheatre.com
SUMMARY:Unsung Hero
DESCRIPTION:
URL:https://theporttheatre.com/event/unsung-hero-613/
LOCATION:Port Theatre\, 132 Montreal Rd\, Cornwall\, Ontario\, k6H1B3\, Canada
CATEGORIES:Movies
ATTACH;FMTTYPE=image/jpeg:https://theporttheatre.com/wp-content/uploads/2024/05/Unsung-Hero-Poster.jpg
END:VEVENT
BEGIN:VEVENT
DTSTART;TZID=America/Toronto:20240514T133000
DTEND;TZID=America/Toronto:20240514T153000
DTSTAMP:20260425T085255
CREATED:20250908T090950Z
LAST-MODIFIED:20250908T090950Z
UID:10005698-1715693400-1715700600@theporttheatre.com
SUMMARY:Unsung Hero
DESCRIPTION:
URL:https://theporttheatre.com/event/unsung-hero-614/
LOCATION:Port Theatre\, 132 Montreal Rd\, Cornwall\, Ontario\, k6H1B3\, Canada
CATEGORIES:Movies
ATTACH;FMTTYPE=image/jpeg:https://theporttheatre.com/wp-content/uploads/2024/05/Unsung-Hero-Poster.jpg
END:VEVENT
BEGIN:VEVENT
DTSTART;TZID=America/Toronto:20240514T133000
DTEND;TZID=America/Toronto:20240514T153000
DTSTAMP:20260425T085255
CREATED:20250908T210937Z
LAST-MODIFIED:20250908T210937Z
UID:10005699-1715693400-1715700600@theporttheatre.com
SUMMARY:Unsung Hero
DESCRIPTION:
URL:https://theporttheatre.com/event/unsung-hero-615/
LOCATION:Port Theatre\, 132 Montreal Rd\, Cornwall\, Ontario\, k6H1B3\, Canada
CATEGORIES:Movies
ATTACH;FMTTYPE=image/jpeg:https://theporttheatre.com/wp-content/uploads/2024/05/Unsung-Hero-Poster.jpg
END:VEVENT
BEGIN:VEVENT
DTSTART;TZID=America/Toronto:20240514T133000
DTEND;TZID=America/Toronto:20240514T153000
DTSTAMP:20260425T085255
CREATED:20250909T210936Z
LAST-MODIFIED:20250909T210936Z
UID:10005701-1715693400-1715700600@theporttheatre.com
SUMMARY:Unsung Hero
DESCRIPTION:
URL:https://theporttheatre.com/event/unsung-hero-617/
LOCATION:Port Theatre\, 132 Montreal Rd\, Cornwall\, Ontario\, k6H1B3\, Canada
CATEGORIES:Movies
ATTACH;FMTTYPE=image/jpeg:https://theporttheatre.com/wp-content/uploads/2024/05/Unsung-Hero-Poster.jpg
END:VEVENT
BEGIN:VEVENT
DTSTART;TZID=America/Toronto:20240514T133000
DTEND;TZID=America/Toronto:20240514T153000
DTSTAMP:20260425T085255
CREATED:20250910T090937Z
LAST-MODIFIED:20250910T090937Z
UID:10005706-1715693400-1715700600@theporttheatre.com
SUMMARY:Unsung Hero
DESCRIPTION:
URL:https://theporttheatre.com/event/unsung-hero-618/
LOCATION:Port Theatre\, 132 Montreal Rd\, Cornwall\, Ontario\, k6H1B3\, Canada
CATEGORIES:Movies
ATTACH;FMTTYPE=image/jpeg:https://theporttheatre.com/wp-content/uploads/2024/05/Unsung-Hero-Poster.jpg
END:VEVENT
BEGIN:VEVENT
DTSTART;TZID=America/Toronto:20240514T133000
DTEND;TZID=America/Toronto:20240514T153000
DTSTAMP:20260425T085255
CREATED:20250910T210936Z
LAST-MODIFIED:20250910T210936Z
UID:10005707-1715693400-1715700600@theporttheatre.com
SUMMARY:Unsung Hero
DESCRIPTION:
URL:https://theporttheatre.com/event/unsung-hero-619/
LOCATION:Port Theatre\, 132 Montreal Rd\, Cornwall\, Ontario\, k6H1B3\, Canada
CATEGORIES:Movies
ATTACH;FMTTYPE=image/jpeg:https://theporttheatre.com/wp-content/uploads/2024/05/Unsung-Hero-Poster.jpg
END:VEVENT
BEGIN:VEVENT
DTSTART;TZID=America/Toronto:20240514T133000
DTEND;TZID=America/Toronto:20240514T153000
DTSTAMP:20260425T085255
CREATED:20250911T090939Z
LAST-MODIFIED:20250911T090939Z
UID:10005709-1715693400-1715700600@theporttheatre.com
SUMMARY:Unsung Hero
DESCRIPTION:
URL:https://theporttheatre.com/event/unsung-hero-620/
LOCATION:Port Theatre\, 132 Montreal Rd\, Cornwall\, Ontario\, k6H1B3\, Canada
CATEGORIES:Movies
ATTACH;FMTTYPE=image/jpeg:https://theporttheatre.com/wp-content/uploads/2024/05/Unsung-Hero-Poster.jpg
END:VEVENT
BEGIN:VEVENT
DTSTART;TZID=America/Toronto:20240514T133000
DTEND;TZID=America/Toronto:20240514T153000
DTSTAMP:20260425T085255
CREATED:20250911T210937Z
LAST-MODIFIED:20250911T210937Z
UID:10005710-1715693400-1715700600@theporttheatre.com
SUMMARY:Unsung Hero
DESCRIPTION:
URL:https://theporttheatre.com/event/unsung-hero-621/
LOCATION:Port Theatre\, 132 Montreal Rd\, Cornwall\, Ontario\, k6H1B3\, Canada
CATEGORIES:Movies
ATTACH;FMTTYPE=image/jpeg:https://theporttheatre.com/wp-content/uploads/2024/05/Unsung-Hero-Poster.jpg
END:VEVENT
BEGIN:VEVENT
DTSTART;TZID=America/Toronto:20240514T133000
DTEND;TZID=America/Toronto:20240514T153000
DTSTAMP:20260425T085255
CREATED:20250912T090937Z
LAST-MODIFIED:20250912T090937Z
UID:10005715-1715693400-1715700600@theporttheatre.com
SUMMARY:Unsung Hero
DESCRIPTION:
URL:https://theporttheatre.com/event/unsung-hero-622/
LOCATION:Port Theatre\, 132 Montreal Rd\, Cornwall\, Ontario\, k6H1B3\, Canada
CATEGORIES:Movies
ATTACH;FMTTYPE=image/jpeg:https://theporttheatre.com/wp-content/uploads/2024/05/Unsung-Hero-Poster.jpg
END:VEVENT
BEGIN:VEVENT
DTSTART;TZID=America/Toronto:20240514T133000
DTEND;TZID=America/Toronto:20240514T153000
DTSTAMP:20260425T085255
CREATED:20250912T210945Z
LAST-MODIFIED:20250912T210945Z
UID:10005716-1715693400-1715700600@theporttheatre.com
SUMMARY:Unsung Hero
DESCRIPTION:
URL:https://theporttheatre.com/event/unsung-hero-623/
LOCATION:Port Theatre\, 132 Montreal Rd\, Cornwall\, Ontario\, k6H1B3\, Canada
CATEGORIES:Movies
ATTACH;FMTTYPE=image/jpeg:https://theporttheatre.com/wp-content/uploads/2024/05/Unsung-Hero-Poster.jpg
END:VEVENT
BEGIN:VEVENT
DTSTART;TZID=America/Toronto:20240514T133000
DTEND;TZID=America/Toronto:20240514T153000
DTSTAMP:20260425T085255
CREATED:20250913T210936Z
LAST-MODIFIED:20250913T210936Z
UID:10005718-1715693400-1715700600@theporttheatre.com
SUMMARY:Unsung Hero
DESCRIPTION:
URL:https://theporttheatre.com/event/unsung-hero-625/
LOCATION:Port Theatre\, 132 Montreal Rd\, Cornwall\, Ontario\, k6H1B3\, Canada
CATEGORIES:Movies
ATTACH;FMTTYPE=image/jpeg:https://theporttheatre.com/wp-content/uploads/2024/05/Unsung-Hero-Poster.jpg
END:VEVENT
BEGIN:VEVENT
DTSTART;TZID=America/Toronto:20240514T133000
DTEND;TZID=America/Toronto:20240514T153000
DTSTAMP:20260425T085255
CREATED:20250914T090941Z
LAST-MODIFIED:20250914T090941Z
UID:10005719-1715693400-1715700600@theporttheatre.com
SUMMARY:Unsung Hero
DESCRIPTION:
URL:https://theporttheatre.com/event/unsung-hero-626/
LOCATION:Port Theatre\, 132 Montreal Rd\, Cornwall\, Ontario\, k6H1B3\, Canada
CATEGORIES:Movies
ATTACH;FMTTYPE=image/jpeg:https://theporttheatre.com/wp-content/uploads/2024/05/Unsung-Hero-Poster.jpg
END:VEVENT
BEGIN:VEVENT
DTSTART;TZID=America/Toronto:20240514T133000
DTEND;TZID=America/Toronto:20240514T153000
DTSTAMP:20260425T085255
CREATED:20250914T210937Z
LAST-MODIFIED:20250914T210937Z
UID:10005720-1715693400-1715700600@theporttheatre.com
SUMMARY:Unsung Hero
DESCRIPTION:
URL:https://theporttheatre.com/event/unsung-hero-627/
LOCATION:Port Theatre\, 132 Montreal Rd\, Cornwall\, Ontario\, k6H1B3\, Canada
CATEGORIES:Movies
ATTACH;FMTTYPE=image/jpeg:https://theporttheatre.com/wp-content/uploads/2024/05/Unsung-Hero-Poster.jpg
END:VEVENT
BEGIN:VEVENT
DTSTART;TZID=America/Toronto:20240514T133000
DTEND;TZID=America/Toronto:20240514T153000
DTSTAMP:20260425T085255
CREATED:20250915T090942Z
LAST-MODIFIED:20250915T090942Z
UID:10005721-1715693400-1715700600@theporttheatre.com
SUMMARY:Unsung Hero
DESCRIPTION:
URL:https://theporttheatre.com/event/unsung-hero-628/
LOCATION:Port Theatre\, 132 Montreal Rd\, Cornwall\, Ontario\, k6H1B3\, Canada
CATEGORIES:Movies
ATTACH;FMTTYPE=image/jpeg:https://theporttheatre.com/wp-content/uploads/2024/05/Unsung-Hero-Poster.jpg
END:VEVENT
BEGIN:VEVENT
DTSTART;TZID=America/Toronto:20240514T133000
DTEND;TZID=America/Toronto:20240514T153000
DTSTAMP:20260425T085255
CREATED:20250915T210937Z
LAST-MODIFIED:20250915T210937Z
UID:10005722-1715693400-1715700600@theporttheatre.com
SUMMARY:Unsung Hero
DESCRIPTION:
URL:https://theporttheatre.com/event/unsung-hero-629/
LOCATION:Port Theatre\, 132 Montreal Rd\, Cornwall\, Ontario\, k6H1B3\, Canada
CATEGORIES:Movies
ATTACH;FMTTYPE=image/jpeg:https://theporttheatre.com/wp-content/uploads/2024/05/Unsung-Hero-Poster.jpg
END:VEVENT
BEGIN:VEVENT
DTSTART;TZID=America/Toronto:20240514T133000
DTEND;TZID=America/Toronto:20240514T153000
DTSTAMP:20260425T085255
CREATED:20250916T090937Z
LAST-MODIFIED:20250916T090937Z
UID:10005723-1715693400-1715700600@theporttheatre.com
SUMMARY:Unsung Hero
DESCRIPTION:
URL:https://theporttheatre.com/event/unsung-hero-630/
LOCATION:Port Theatre\, 132 Montreal Rd\, Cornwall\, Ontario\, k6H1B3\, Canada
CATEGORIES:Movies
ATTACH;FMTTYPE=image/jpeg:https://theporttheatre.com/wp-content/uploads/2024/05/Unsung-Hero-Poster.jpg
END:VEVENT
BEGIN:VEVENT
DTSTART;TZID=America/Toronto:20240514T133000
DTEND;TZID=America/Toronto:20240514T153000
DTSTAMP:20260425T085255
CREATED:20250916T210942Z
LAST-MODIFIED:20250916T210942Z
UID:10005724-1715693400-1715700600@theporttheatre.com
SUMMARY:Unsung Hero
DESCRIPTION:
URL:https://theporttheatre.com/event/unsung-hero-631/
LOCATION:Port Theatre\, 132 Montreal Rd\, Cornwall\, Ontario\, k6H1B3\, Canada
CATEGORIES:Movies
ATTACH;FMTTYPE=image/jpeg:https://theporttheatre.com/wp-content/uploads/2024/05/Unsung-Hero-Poster.jpg
END:VEVENT
BEGIN:VEVENT
DTSTART;TZID=America/Toronto:20240514T133000
DTEND;TZID=America/Toronto:20240514T153000
DTSTAMP:20260425T085255
CREATED:20250917T210940Z
LAST-MODIFIED:20250917T210940Z
UID:10005726-1715693400-1715700600@theporttheatre.com
SUMMARY:Unsung Hero
DESCRIPTION:
URL:https://theporttheatre.com/event/unsung-hero-633/
LOCATION:Port Theatre\, 132 Montreal Rd\, Cornwall\, Ontario\, k6H1B3\, Canada
CATEGORIES:Movies
ATTACH;FMTTYPE=image/jpeg:https://theporttheatre.com/wp-content/uploads/2024/05/Unsung-Hero-Poster.jpg
END:VEVENT
BEGIN:VEVENT
DTSTART;TZID=America/Toronto:20240514T133000
DTEND;TZID=America/Toronto:20240514T153000
DTSTAMP:20260425T085255
CREATED:20250918T090936Z
LAST-MODIFIED:20250918T090936Z
UID:10005727-1715693400-1715700600@theporttheatre.com
SUMMARY:Unsung Hero
DESCRIPTION:
URL:https://theporttheatre.com/event/unsung-hero-634/
LOCATION:Port Theatre\, 132 Montreal Rd\, Cornwall\, Ontario\, k6H1B3\, Canada
CATEGORIES:Movies
ATTACH;FMTTYPE=image/jpeg:https://theporttheatre.com/wp-content/uploads/2024/05/Unsung-Hero-Poster.jpg
END:VEVENT
BEGIN:VEVENT
DTSTART;TZID=America/Toronto:20240514T133000
DTEND;TZID=America/Toronto:20240514T153000
DTSTAMP:20260425T085255
CREATED:20250918T210939Z
LAST-MODIFIED:20250918T210939Z
UID:10005728-1715693400-1715700600@theporttheatre.com
SUMMARY:Unsung Hero
DESCRIPTION:
URL:https://theporttheatre.com/event/unsung-hero-635/
LOCATION:Port Theatre\, 132 Montreal Rd\, Cornwall\, Ontario\, k6H1B3\, Canada
CATEGORIES:Movies
ATTACH;FMTTYPE=image/jpeg:https://theporttheatre.com/wp-content/uploads/2024/05/Unsung-Hero-Poster.jpg
END:VEVENT
BEGIN:VEVENT
DTSTART;TZID=America/Toronto:20240514T133000
DTEND;TZID=America/Toronto:20240514T153000
DTSTAMP:20260425T085255
CREATED:20250919T090936Z
LAST-MODIFIED:20250919T090936Z
UID:10005729-1715693400-1715700600@theporttheatre.com
SUMMARY:Unsung Hero
DESCRIPTION:
URL:https://theporttheatre.com/event/unsung-hero-636/
LOCATION:Port Theatre\, 132 Montreal Rd\, Cornwall\, Ontario\, k6H1B3\, Canada
CATEGORIES:Movies
ATTACH;FMTTYPE=image/jpeg:https://theporttheatre.com/wp-content/uploads/2024/05/Unsung-Hero-Poster.jpg
END:VEVENT
BEGIN:VEVENT
DTSTART;TZID=America/Toronto:20240514T133000
DTEND;TZID=America/Toronto:20240514T153000
DTSTAMP:20260425T085255
CREATED:20250919T210936Z
LAST-MODIFIED:20250919T210936Z
UID:10005730-1715693400-1715700600@theporttheatre.com
SUMMARY:Unsung Hero
DESCRIPTION:
URL:https://theporttheatre.com/event/unsung-hero-637/
LOCATION:Port Theatre\, 132 Montreal Rd\, Cornwall\, Ontario\, k6H1B3\, Canada
CATEGORIES:Movies
ATTACH;FMTTYPE=image/jpeg:https://theporttheatre.com/wp-content/uploads/2024/05/Unsung-Hero-Poster.jpg
END:VEVENT
BEGIN:VEVENT
DTSTART;TZID=America/Toronto:20240514T133000
DTEND;TZID=America/Toronto:20240514T153000
DTSTAMP:20260425T085255
CREATED:20250920T090938Z
LAST-MODIFIED:20250920T090938Z
UID:10005731-1715693400-1715700600@theporttheatre.com
SUMMARY:Unsung Hero
DESCRIPTION:
URL:https://theporttheatre.com/event/unsung-hero-638/
LOCATION:Port Theatre\, 132 Montreal Rd\, Cornwall\, Ontario\, k6H1B3\, Canada
CATEGORIES:Movies
ATTACH;FMTTYPE=image/jpeg:https://theporttheatre.com/wp-content/uploads/2024/05/Unsung-Hero-Poster.jpg
END:VEVENT
END:VCALENDAR